BEGIN:VCALENDAR
VERSION:2.0
PRODID:-//www.eki-wehr.de//NONSGML kigkonsult.se iCalcreator 2.41.92//
CALSCALE:GREGORIAN
METHOD:PUBLISH
UID:62356430-3765-4662-b766-343264376633
X-WR-TIMEZONE:Europe/Berlin
X-LIC-LOCATION:Europe/Berlin
BEGIN:VTIMEZONE
TZID:Europe/Berlin
BEGIN:DAYLIGHT
TZOFFSETFROM:+0100
TZOFFSETTO:+0200
TZNAME:CEST
DTSTART:19700329T020000
RRULE:FREQ=YEARLY;BYDAY=-1SU;BYMONTH=3
END:DAYLIGHT
BEGIN:STANDARD
TZOFFSETFROM:+0200
TZOFFSETTO:+0100
TZNAME:CET
DTSTART:19701025T030000
RRULE:FREQ=YEARLY;BYDAY=-1SU;BYMONTH=10
END:STANDARD
END:VTIMEZONE
BEGIN:VEVENT
UID:65316165-3931-4566-b131-613063376465
DTSTAMP:20260421T163811Z
DESCRIPTION:mit Team\n \n im Anschluss laden wir zu Kaffee und Tee ein\n \n
  Veranstaltungsort:\n Talstrasse 20\n Herrischried\n \n Veranstalter:\n Ki
 rchengemeinde Murg-Rickenbach-Herrischried\n Wieladinger Str. 5\n 79730 Mu
 rg\n Telefon: 07763 6961
DTSTART;TZID=Europe/Berlin:20260426T110000
DTEND;TZID=Europe/Berlin:20260426T120000
LOCATION:Talstrasse 20\n - Herrischried
SUMMARY:Lobpreisgottesdienst in Herrischried
X-ALT-DESC;FMTTYPE=text/html:mit Team <br /><br />im Anschluss laden wir zu
  Kaffee und Tee ein<br /><br />Veranstaltungsort: <br />Talstrasse 20<br /
 >Herrischried<br /><br />Veranstalter: <br />Kirchengemeinde Murg-Rickenba
 ch-Herrischried<br />Wieladinger Str. 5<br />79730 Murg<br />Telefon: 0776
 3 6961
END:VEVENT
END:VCALENDAR
