BEGIN:VCALENDAR
VERSION:2.0
PRODID:-//www.eki-wehr.de//NONSGML kigkonsult.se iCalcreator 2.41.92//
CALSCALE:GREGORIAN
METHOD:PUBLISH
UID:66356531-3138-4830-b834-346637613336
X-WR-TIMEZONE:Europe/Berlin
X-LIC-LOCATION:Europe/Berlin
BEGIN:VTIMEZONE
TZID:Europe/Berlin
BEGIN:DAYLIGHT
TZOFFSETFROM:+0100
TZOFFSETTO:+0200
TZNAME:CEST
DTSTART:19700329T020000
RRULE:FREQ=YEARLY;BYDAY=-1SU;BYMONTH=3
END:DAYLIGHT
BEGIN:STANDARD
TZOFFSETFROM:+0200
TZOFFSETTO:+0100
TZNAME:CET
DTSTART:19701025T030000
RRULE:FREQ=YEARLY;BYDAY=-1SU;BYMONTH=10
END:STANDARD
END:VTIMEZONE
BEGIN:VEVENT
UID:61353766-3864-4530-b036-626437383232
DTSTAMP:20260421T145649Z
DESCRIPTION:mit Jan Welp\n \n Veranstaltungsort:\n Wieladinger Straße 5\n M
 urg\n \n Veranstalter:\n Kirchengemeinde Murg-Rickenbach-Herrischried\n Wi
 eladinger Str. 5\n 79730 Murg\n Telefon: 07763 6961
DTSTART;TZID=Europe/Berlin:20260503T100000
DTEND;TZID=Europe/Berlin:20260503T110000
LOCATION:Wieladinger Straße 5\n - Murg
SUMMARY:Konfirmation in Murg
X-ALT-DESC;FMTTYPE=text/html:mit Jan Welp<br /><br />Veranstaltungsort: <br
  />Wieladinger Straße 5<br />Murg<br /><br />Veranstalter: <br />Kirchenge
 meinde Murg-Rickenbach-Herrischried<br />Wieladinger Str. 5<br />79730 Mur
 g<br />Telefon: 07763 6961
END:VEVENT
END:VCALENDAR
