BEGIN:VCALENDAR
VERSION:2.0
PRODID:-//www.eki-wehr.de//NONSGML kigkonsult.se iCalcreator 2.41.92//
CALSCALE:GREGORIAN
METHOD:PUBLISH
UID:30353163-3733-4037-a537-306233646134
X-WR-TIMEZONE:Europe/Berlin
X-LIC-LOCATION:Europe/Berlin
BEGIN:VTIMEZONE
TZID:Europe/Berlin
BEGIN:DAYLIGHT
TZOFFSETFROM:+0100
TZOFFSETTO:+0200
TZNAME:CEST
DTSTART:19700329T020000
RRULE:FREQ=YEARLY;BYDAY=-1SU;BYMONTH=3
END:DAYLIGHT
BEGIN:STANDARD
TZOFFSETFROM:+0200
TZOFFSETTO:+0100
TZNAME:CET
DTSTART:19701025T030000
RRULE:FREQ=YEARLY;BYDAY=-1SU;BYMONTH=10
END:STANDARD
END:VTIMEZONE
BEGIN:VEVENT
UID:38663238-6435-4131-b335-333134613131
DTSTAMP:20260421T134054Z
DESCRIPTION:Und Kirchenkaffee\n \n Veranstalter:\n Evangelische Kirchengeme
 inde Bad Säckingen
DTSTART;TZID=Europe/Berlin:20260426T110000
DTEND;TZID=Europe/Berlin:20260426T120000
LOCATION:
SUMMARY:Gottesdienst
X-ALT-DESC;FMTTYPE=text/html:Und Kirchenkaffee<br /><br />Veranstalter: <br
  />Evangelische Kirchengemeinde Bad Säckingen
END:VEVENT
END:VCALENDAR
