BEGIN:VCALENDAR
VERSION:2.0
PRODID:-//www.eki-wehr.de//NONSGML kigkonsult.se iCalcreator 2.41.92//
CALSCALE:GREGORIAN
METHOD:PUBLISH
UID:64383430-3061-4066-a131-633666633735
X-WR-TIMEZONE:Europe/Berlin
X-LIC-LOCATION:Europe/Berlin
BEGIN:VTIMEZONE
TZID:Europe/Berlin
BEGIN:DAYLIGHT
TZOFFSETFROM:+0100
TZOFFSETTO:+0200
TZNAME:CEST
DTSTART:19700329T020000
RRULE:FREQ=YEARLY;BYDAY=-1SU;BYMONTH=3
END:DAYLIGHT
BEGIN:STANDARD
TZOFFSETFROM:+0200
TZOFFSETTO:+0100
TZNAME:CET
DTSTART:19701025T030000
RRULE:FREQ=YEARLY;BYDAY=-1SU;BYMONTH=10
END:STANDARD
END:VTIMEZONE
BEGIN:VEVENT
UID:34323862-3364-4335-b133-386565356539
DTSTAMP:20260421T175844Z
DESCRIPTION:Predigt / Liturgie:\n \n Veranstaltungsort:\n Bahnstraße 4\n We
 hr\n \n Veranstalter:\n Evang. Kirchengemeinde Wehr und Öflingen\n Bahnstr
 . 4\n 79664 Wehr\n Telefon: 07762-9289\n https://www.eki-wehr.de
DTSTART;TZID=Europe/Berlin:20260503T100000
DTEND;TZID=Europe/Berlin:20260503T110000
LOCATION:Bahnstraße 4\n - Wehr
SUMMARY:Gottesdienst mit Abendmahl mit Diakon Sven Holtkamp
X-ALT-DESC;FMTTYPE=text/html:Predigt / Liturgie: <br /><br />Veranstaltungs
 ort: <br />Bahnstraße 4<br />Wehr<br /><br />Veranstalter: <br />Evang. Ki
 rchengemeinde Wehr und Öflingen<br />Bahnstr. 4<br />79664 Wehr<br />Telef
 on: 07762-9289<br />https://www.eki-wehr.de
END:VEVENT
END:VCALENDAR
