BEGIN:VCALENDAR
VERSION:2.0
PRODID:-//www.eki-wehr.de//NONSGML kigkonsult.se iCalcreator 2.41.92//
CALSCALE:GREGORIAN
METHOD:PUBLISH
UID:38396635-3934-4462-b262-373332323031
X-WR-TIMEZONE:Europe/Berlin
X-LIC-LOCATION:Europe/Berlin
BEGIN:VTIMEZONE
TZID:Europe/Berlin
BEGIN:DAYLIGHT
TZOFFSETFROM:+0100
TZOFFSETTO:+0200
TZNAME:CEST
DTSTART:19700329T020000
RRULE:FREQ=YEARLY;BYDAY=-1SU;BYMONTH=3
END:DAYLIGHT
BEGIN:STANDARD
TZOFFSETFROM:+0200
TZOFFSETTO:+0100
TZNAME:CET
DTSTART:19701025T030000
RRULE:FREQ=YEARLY;BYDAY=-1SU;BYMONTH=10
END:STANDARD
END:VTIMEZONE
BEGIN:VEVENT
UID:36613337-3365-4639-b231-356664396664
DTSTAMP:20260421T163904Z
DESCRIPTION:Veranstaltungsort:\n Waldshuter Str. 42\n Bad Säckingen\n \n Ve
 ranstalter:\n Evangelische Kirchengemeinde Bad Säckingen\n Bad Säckingen
DTSTART;TZID=Europe/Berlin:20260502T150000
DTEND;TZID=Europe/Berlin:20260502T160000
LOCATION:Waldshuter Str. 42\n - Bad Säckingen
SUMMARY:Konfirmation in Bad Säckingen
X-ALT-DESC;FMTTYPE=text/html:Veranstaltungsort: <br />Waldshuter Str. 42<br
  />Bad Säckingen<br /><br />Veranstalter: <br />Evangelische Kirchengemein
 de Bad Säckingen<br />Bad Säckingen
END:VEVENT
END:VCALENDAR
